BEGIN:VCALENDAR
VERSION:2.0
PRODID:-//Janakkalan Kuvataideyhdistys ry - ECPv6.15.20//NONSGML v1.0//EN
CALSCALE:GREGORIAN
METHOD:PUBLISH
X-ORIGINAL-URL:https://www.janakkalankuvis.net
X-WR-CALDESC:Tapahtumat Janakkalan Kuvataideyhdistys ry
REFRESH-INTERVAL;VALUE=DURATION:PT1H
X-Robots-Tag:noindex
X-PUBLISHED-TTL:PT1H
BEGIN:VTIMEZONE
TZID:Europe/Helsinki
BEGIN:DAYLIGHT
TZOFFSETFROM:+0200
TZOFFSETTO:+0300
TZNAME:EEST
DTSTART:20250330T010000
END:DAYLIGHT
BEGIN:STANDARD
TZOFFSETFROM:+0300
TZOFFSETTO:+0200
TZNAME:EET
DTSTART:20251026T010000
END:STANDARD
BEGIN:DAYLIGHT
TZOFFSETFROM:+0200
TZOFFSETTO:+0300
TZNAME:EEST
DTSTART:20260329T010000
END:DAYLIGHT
BEGIN:STANDARD
TZOFFSETFROM:+0300
TZOFFSETTO:+0200
TZNAME:EET
DTSTART:20261025T010000
END:STANDARD
BEGIN:DAYLIGHT
TZOFFSETFROM:+0200
TZOFFSETTO:+0300
TZNAME:EEST
DTSTART:20270328T010000
END:DAYLIGHT
BEGIN:STANDARD
TZOFFSETFROM:+0300
TZOFFSETTO:+0200
TZNAME:EET
DTSTART:20271031T010000
END:STANDARD
END:VTIMEZONE
BEGIN:VEVENT
DTSTART;VALUE=DATE:20260613
DTEND;VALUE=DATE:20260615
DTSTAMP:20260423T085740
CREATED:20260129T095947Z
LAST-MODIFIED:20260129T095947Z
UID:942-1781308800-1781481599@www.janakkalankuvis.net
SUMMARY:Kesäleiri 13.-14.6.2026
DESCRIPTION:Kesäleiri 13.-14.6.2026 \n  \nLisätietoja tulossa
URL:https://www.janakkalankuvis.net/event/kesaleiri-13-14-6-2026/
END:VEVENT
BEGIN:VEVENT
DTSTART;TZID=Europe/Helsinki:20260710T100000
DTEND;TZID=Europe/Helsinki:20260710T150000
DTSTAMP:20260423T085740
CREATED:20260129T100030Z
LAST-MODIFIED:20260129T100030Z
UID:944-1783677600-1783695600@www.janakkalankuvis.net
SUMMARY:Suuri maalaustapahtuma 10.7.2026; Laurinmäki
DESCRIPTION:Suuri maalaustapahtuma 10.7.2026; Laurinmäki
URL:https://www.janakkalankuvis.net/event/suuri-maalaustapahtuma-10-7-2026-laurinmaki/
LOCATION:Laurinmäki
END:VEVENT
BEGIN:VEVENT
DTSTART;VALUE=DATE:20260801
DTEND;VALUE=DATE:20260802
DTSTAMP:20260423T085740
CREATED:20260129T100103Z
LAST-MODIFIED:20260129T103621Z
UID:946-1785542400-1785628799@www.janakkalankuvis.net
SUMMARY:Pihamaalauspäivä 1.8.2026 Lyylinpuistossa
DESCRIPTION:Pihamaalauspäivä 1.8.2026 Lyylinpuistossa \n  \nlisätietoja tulossa pian
URL:https://www.janakkalankuvis.net/event/pihamaalauspaiva-1-8-2026/
END:VEVENT
BEGIN:VEVENT
DTSTART;VALUE=DATE:20260831
DTEND;VALUE=DATE:20260912
DTSTAMP:20260423T085740
CREATED:20260129T100228Z
LAST-MODIFIED:20260129T100228Z
UID:948-1788134400-1789171199@www.janakkalankuvis.net
SUMMARY:Grafiikan näyttely 31.8-11.9.2026 kirjaston Ida-galleriassa
DESCRIPTION:Grafiikan näyttely 31.8-11.9.2026 kirjaston Ida-galleriassa \nEi jurytystä \nRipustus maanantaina 31.8. ja purku perjantaina 11.9. \n  \nTarkempia lisätietoja myöhemmin
URL:https://www.janakkalankuvis.net/event/grafiikan-nayttely-31-8-11-9-2026-kirjaston-ida-galleriassa/
END:VEVENT
BEGIN:VEVENT
DTSTART;VALUE=DATE:20261123
DTEND;VALUE=DATE:20261212
DTSTAMP:20260423T085740
CREATED:20260129T100345Z
LAST-MODIFIED:20260129T100345Z
UID:950-1795392000-1797033599@www.janakkalankuvis.net
SUMMARY:Vuosinäyttely 24.11.- 10.12.2026\, kirjaston Ida-galleriassa
DESCRIPTION:Vuosinäyttely 24.11.- 10.12.2026\, kirjaston Ida-galleriassa \nRipustus maanantaina 23.11. \nAvajaiset tiistaina 24.11. klo 19 \nPurku perjantaina 11.12. \n  \nTarkempia lisätietoja myöhemmin!
URL:https://www.janakkalankuvis.net/event/vuosinayttely-24-11-10-12-2026-kirjaston-ida-galleriassa/
LOCATION:Janakkalan pääkirjasto\, Ida-galleria\, Koulutie 2 A\, Turenki\, 14200\, Suomi
END:VEVENT
END:VCALENDAR