BEGIN:VCALENDAR
VERSION:2.0
PRODID:-//Janakkalan Kuvataideyhdistys ry - ECPv6.15.20//NONSGML v1.0//EN
CALSCALE:GREGORIAN
METHOD:PUBLISH
X-WR-CALNAME:Janakkalan Kuvataideyhdistys ry
X-ORIGINAL-URL:https://www.janakkalankuvis.net
X-WR-CALDESC:Tapahtumat Janakkalan Kuvataideyhdistys ry
REFRESH-INTERVAL;VALUE=DURATION:PT1H
X-Robots-Tag:noindex
X-PUBLISHED-TTL:PT1H
BEGIN:VTIMEZONE
TZID:Europe/Helsinki
BEGIN:DAYLIGHT
TZOFFSETFROM:+0200
TZOFFSETTO:+0300
TZNAME:EEST
DTSTART:20250330T010000
END:DAYLIGHT
BEGIN:STANDARD
TZOFFSETFROM:+0300
TZOFFSETTO:+0200
TZNAME:EET
DTSTART:20251026T010000
END:STANDARD
BEGIN:DAYLIGHT
TZOFFSETFROM:+0200
TZOFFSETTO:+0300
TZNAME:EEST
DTSTART:20260329T010000
END:DAYLIGHT
BEGIN:STANDARD
TZOFFSETFROM:+0300
TZOFFSETTO:+0200
TZNAME:EET
DTSTART:20261025T010000
END:STANDARD
BEGIN:DAYLIGHT
TZOFFSETFROM:+0200
TZOFFSETTO:+0300
TZNAME:EEST
DTSTART:20270328T010000
END:DAYLIGHT
BEGIN:STANDARD
TZOFFSETFROM:+0300
TZOFFSETTO:+0200
TZNAME:EET
DTSTART:20271031T010000
END:STANDARD
END:VTIMEZONE
BEGIN:VEVENT
DTSTART;TZID=Europe/Helsinki:20260213T100000
DTEND;TZID=Europe/Helsinki:20260213T140000
DTSTAMP:20260422T024741
CREATED:20260129T101312Z
LAST-MODIFIED:20260203T070421Z
UID:953-1770976800-1770991200@www.janakkalankuvis.net
SUMMARY:Gelli plate työpaja - innostu yhdessä!
DESCRIPTION:Gelli plate työpaja – innostu yhdessä! \nTuliko hommattua Gelli plate nurkkiin pölyyntymään? Nappaa se mukaan värien ja paperien kera ja tule yhdessä kokeilmaan ja innostumaan sen mahdollisuuksista! \n* Hauska ja helppo tekniikka\, jossa alustana on pehmeä gelli-plate\n* Aika: perjantai 13.2. klo 10-14\n* Paikka: Työhuone\, Paturintie 2 B\, Turenki (käynti Kinttupolun puolelta)\n* Työpajamaksu 2\,50 € käteisellä\n* Huom! Hanki oma gelli-laatta ja paperit esim. Askartelukaupasta (Hallituskatu 1\, Hml)\n* Tiedustelut ja ilmoittautuminen Monicalle 050 3831437 tai monica.boucht@gmail.com \n  \nTervetuloa! \n  \nAlla kuvia kerroksellisesta gelli plate tekniikasta: \n  \n  \n  \n 
URL:https://www.janakkalankuvis.net/event/gelli-plate-tyopaja-innostu-yhdessa/
LOCATION:Yhdistyksen työhuone\, Paturintie 2 (sisäänkäynti Kinttupolun puolelta)\, Turenki\, Suomi
END:VEVENT
END:VCALENDAR