BEGIN:VCALENDAR
VERSION:2.0
PRODID:-//Janakkalan Kuvataideyhdistys ry - ECPv6.15.20//NONSGML v1.0//EN
CALSCALE:GREGORIAN
METHOD:PUBLISH
X-WR-CALNAME:Janakkalan Kuvataideyhdistys ry
X-ORIGINAL-URL:https://www.janakkalankuvis.net
X-WR-CALDESC:Tapahtumat Janakkalan Kuvataideyhdistys ry
REFRESH-INTERVAL;VALUE=DURATION:PT1H
X-Robots-Tag:noindex
X-PUBLISHED-TTL:PT1H
BEGIN:VTIMEZONE
TZID:Europe/Helsinki
BEGIN:DAYLIGHT
TZOFFSETFROM:+0200
TZOFFSETTO:+0300
TZNAME:EEST
DTSTART:20250330T010000
END:DAYLIGHT
BEGIN:STANDARD
TZOFFSETFROM:+0300
TZOFFSETTO:+0200
TZNAME:EET
DTSTART:20251026T010000
END:STANDARD
BEGIN:DAYLIGHT
TZOFFSETFROM:+0200
TZOFFSETTO:+0300
TZNAME:EEST
DTSTART:20260329T010000
END:DAYLIGHT
BEGIN:STANDARD
TZOFFSETFROM:+0300
TZOFFSETTO:+0200
TZNAME:EET
DTSTART:20261025T010000
END:STANDARD
BEGIN:DAYLIGHT
TZOFFSETFROM:+0200
TZOFFSETTO:+0300
TZNAME:EEST
DTSTART:20270328T010000
END:DAYLIGHT
BEGIN:STANDARD
TZOFFSETFROM:+0300
TZOFFSETTO:+0200
TZNAME:EET
DTSTART:20271031T010000
END:STANDARD
END:VTIMEZONE
BEGIN:VEVENT
DTSTART;TZID=Europe/Helsinki:20260328T100000
DTEND;TZID=Europe/Helsinki:20260328T150000
DTSTAMP:20260422T060831
CREATED:20260129T095731Z
LAST-MODIFIED:20260203T070616Z
UID:938-1774692000-1774710000@www.janakkalankuvis.net
SUMMARY:Grafiikan vedostuspäivä 28.3. Työhuoneella
DESCRIPTION:GRAFIIKAN VEDOSTUSPÄIVÄ 28.3. \n* Aika: la 28.3. klo 10 alkaen\n* Paikka: Työhuone\, Paturintie 2 B\, Turenki (käynti Kinttupolun puolelta)\n* Omatoimista työskentelyä (omat tarvikkeet\, paperia voi ostaa työhuoneelta)\n* Työpajamaksu 2\,50 € käteisellä
URL:https://www.janakkalankuvis.net/event/grafiikan-vedostuspaiva-xx/
LOCATION:Yhdistyksen työhuone\, Paturintie 2 (sisäänkäynti Kinttupolun puolelta)\, Turenki\, Suomi
END:VEVENT
END:VCALENDAR