BEGIN:VCALENDAR
VERSION:2.0
PRODID:-//Janakkalan Kuvataideyhdistys ry - ECPv6.15.20//NONSGML v1.0//EN
CALSCALE:GREGORIAN
METHOD:PUBLISH
X-ORIGINAL-URL:https://www.janakkalankuvis.net
X-WR-CALDESC:Tapahtumat Janakkalan Kuvataideyhdistys ry
REFRESH-INTERVAL;VALUE=DURATION:PT1H
X-Robots-Tag:noindex
X-PUBLISHED-TTL:PT1H
BEGIN:VTIMEZONE
TZID:Europe/Helsinki
BEGIN:DAYLIGHT
TZOFFSETFROM:+0200
TZOFFSETTO:+0300
TZNAME:EEST
DTSTART:20240331T010000
END:DAYLIGHT
BEGIN:STANDARD
TZOFFSETFROM:+0300
TZOFFSETTO:+0200
TZNAME:EET
DTSTART:20241027T010000
END:STANDARD
BEGIN:DAYLIGHT
TZOFFSETFROM:+0200
TZOFFSETTO:+0300
TZNAME:EEST
DTSTART:20250330T010000
END:DAYLIGHT
BEGIN:STANDARD
TZOFFSETFROM:+0300
TZOFFSETTO:+0200
TZNAME:EET
DTSTART:20251026T010000
END:STANDARD
BEGIN:DAYLIGHT
TZOFFSETFROM:+0200
TZOFFSETTO:+0300
TZNAME:EEST
DTSTART:20260329T010000
END:DAYLIGHT
BEGIN:STANDARD
TZOFFSETFROM:+0300
TZOFFSETTO:+0200
TZNAME:EET
DTSTART:20261025T010000
END:STANDARD
END:VTIMEZONE
BEGIN:VEVENT
DTSTART;VALUE=DATE:20251125
DTEND;VALUE=DATE:20251220
DTSTAMP:20260421T160203
CREATED:20250127T105152Z
LAST-MODIFIED:20251210T074734Z
UID:810-1764028800-1766188799@www.janakkalankuvis.net
SUMMARY:Vuosinäyttely 25.11. - 18.12.2025
DESCRIPTION:Vuosinäyttely 25.11. – 18.12.2025 \n  \n*Paikka: pääkirjaston Aulagalleria\, Koulutie 2\, Turenki \n*Töiden vastaanotto: maanantaina 24.11. klo 16-17 – ripustus tehdään klo 17 -> tervetuloa mukaan auttamaan! \n*Tuo enintään 3 ripustusvalmista työtäsi (jokaiselta otetaan näyttelyyn ainakin yksi työ) \n*Näyttelymaksu 10€ \n*Täytä näyttelylomake ja kiinnitä pikkulaput teoksien etupuolelle (Näyttelylomakkeen löydät nettisivuilta tai viimeisimmästä jäsenkirjeestä) \n*Näyttelyn purku perjantaina 19.12. kirjaston aukioloaikana \n  \n  \nNäyttelyn avajaiset ovat tiistaina 25.11. klo 19 – \n* Ohjelmaa * Vuoden taiteilijan julkistus * Musiikkia * Tarjoilua \nTERVETULOA! 
URL:https://www.janakkalankuvis.net/event/vuosinayttely-25-11-18-12-2025/
LOCATION:Janakkalan pääkirjasto\, Ida-galleria\, Koulutie 2 A\, Turenki\, 14200\, Suomi
END:VEVENT
END:VCALENDAR